Package: OMICsPCA Version: 1.22.0 Command: /Library/Frameworks/R.framework/Resources/bin/R CMD build --keep-empty-dirs --no-resave-data OMICsPCA StartedAt: 2024-10-16 21:43:09 -0400 (Wed, 16 Oct 2024) EndedAt: 2024-10-16 21:47:47 -0400 (Wed, 16 Oct 2024) EllapsedTime: 278.0 seconds RetCode: 0 Status: OK PackageFile: OMICsPCA_1.22.0.tar.gz PackageFileSize: 7.776 MiB