Package: OMICsPCA Version: 1.22.0 Command: rm -rf OMICsPCA.buildbin-libdir && mkdir OMICsPCA.buildbin-libdir && /Users/biocbuild/BBS/utils/build-universal.sh OMICsPCA_1.22.0.tar.gz /Library/Frameworks/R.framework/Resources/bin/R OMICsPCA.buildbin-libdir StartedAt: 2024-10-17 16:45:54 -0400 (Thu, 17 Oct 2024) EndedAt: 2024-10-17 16:47:57 -0400 (Thu, 17 Oct 2024) EllapsedTime: 123.1 seconds RetCode: 0 Status: OK PackageFile: OMICsPCA_1.22.0.tgz PackageFileSize: 7.869 MiB