Package: OMICsPCA Version: 1.22.0 Command: /home/biocbuild/R/R-beta-2024-04-15_r86425/bin/R CMD build --keep-empty-dirs --no-resave-data OMICsPCA StartedAt: 2024-05-09 02:12:38 -0000 (Thu, 09 May 2024) EndedAt: 2024-05-09 02:16:13 -0000 (Thu, 09 May 2024) EllapsedTime: 215.4 seconds RetCode: 0 Status: OK PackageFile: OMICsPCA_1.22.0.tar.gz PackageFileSize: 2.426 MiB