Package: OMICsPCA Version: 1.22.0 Command: /Library/Frameworks/R.framework/Resources/bin/R CMD build --keep-empty-dirs --no-resave-data OMICsPCA StartedAt: 2024-06-10 01:54:31 -0400 (Mon, 10 Jun 2024) EndedAt: 2024-06-10 01:57:28 -0400 (Mon, 10 Jun 2024) EllapsedTime: 176.3 seconds RetCode: 0 Status: OK PackageFile: OMICsPCA_1.22.0.tar.gz PackageFileSize: 7.789 MiB