Package: OLINgui Version: 1.78.0 Command: chmod a+r OLINgui -R && E:\biocbuild\bbs-3.19-bioc\R\bin\R.exe CMD build --keep-empty-dirs --no-resave-data OLINgui StartedAt: 2024-10-16 20:46:05 -0400 (Wed, 16 Oct 2024) EndedAt: 2024-10-16 20:46:20 -0400 (Wed, 16 Oct 2024) EllapsedTime: 15.2 seconds RetCode: 0 Status: OK PackageFile: OLINgui_1.78.0.tar.gz PackageFileSize: 234.8 KiB