Package: OLIN Version: 1.82.0 Command: rm -rf OLIN.buildbin-libdir && mkdir OLIN.buildbin-libdir && E:\biocbuild\bbs-3.19-bioc\R\bin\R.exe CMD INSTALL --build --library=OLIN.buildbin-libdir OLIN_1.82.0.tar.gz StartedAt: 2024-10-17 08:16:56 -0400 (Thu, 17 Oct 2024) EndedAt: 2024-10-17 08:17:09 -0400 (Thu, 17 Oct 2024) EllapsedTime: 12.8 seconds RetCode: 0 Status: OK PackageFile: OLIN_1.82.0.zip PackageFileSize: 2.591 MiB