Package: OLIN Version: 1.82.0 Command: F:\biocbuild\bbs-3.19-bioc\R\bin\R.exe CMD check --no-multiarch --install=check:OLIN.install-out.txt --library=F:\biocbuild\bbs-3.19-bioc\R\library --no-vignettes --timings OLIN_1.82.0.tar.gz StartedAt: 2024-06-27 04:19:45 -0400 (Thu, 27 Jun 2024) EndedAt: 2024-06-27 04:20:56 -0400 (Thu, 27 Jun 2024) EllapsedTime: 71.2 seconds RetCode: 0 Status: WARNINGS CheckDir: OLIN.Rcheck Warnings: 1