Package: OLIN Version: 1.82.0 Command: chmod a+r OLIN -R && F:\biocbuild\bbs-3.19-bioc\R\bin\R.exe CMD build --keep-empty-dirs --no-resave-data OLIN StartedAt: 2024-06-26 20:34:54 -0400 (Wed, 26 Jun 2024) EndedAt: 2024-06-26 20:35:35 -0400 (Wed, 26 Jun 2024) EllapsedTime: 41.6 seconds RetCode: 0 Status: OK PackageFile: OLIN_1.82.0.tar.gz PackageFileSize: 2.421 MiB