Package: OLIN Version: 1.82.0 Command: /home/biocbuild/bbs-3.19-bioc/R/bin/R CMD build --keep-empty-dirs --no-resave-data OLIN StartedAt: 2024-10-16 19:51:05 -0400 (Wed, 16 Oct 2024) EndedAt: 2024-10-16 19:51:43 -0400 (Wed, 16 Oct 2024) EllapsedTime: 38.1 seconds RetCode: 0 Status: OK PackageFile: OLIN_1.82.0.tar.gz PackageFileSize: 2.42 MiB