Package: OLIN Version: 1.82.0 Command: /Library/Frameworks/R.framework/Resources/bin/R CMD check --install=check:OLIN.install-out.txt --library=/Library/Frameworks/R.framework/Resources/library --no-vignettes --timings OLIN_1.82.0.tar.gz StartedAt: 2024-10-17 10:13:10 -0400 (Thu, 17 Oct 2024) EndedAt: 2024-10-17 10:15:10 -0400 (Thu, 17 Oct 2024) EllapsedTime: 119.5 seconds RetCode: 0 Status: OK CheckDir: OLIN.Rcheck Warnings: 0