Package: OLIN Version: 1.82.0 Command: /home/biocbuild/R/R-beta-2024-04-15_r86425/bin/R CMD check --install=check:OLIN.install-out.txt --library=/home/biocbuild/R/R-beta-2024-04-15_r86425/site-library --no-vignettes --timings OLIN_1.82.0.tar.gz StartedAt: 2024-05-09 10:09:40 -0000 (Thu, 09 May 2024) EndedAt: 2024-05-09 10:10:42 -0000 (Thu, 09 May 2024) EllapsedTime: 62.1 seconds RetCode: 0 Status: OK CheckDir: OLIN.Rcheck Warnings: 0