Package: OLIN Version: 1.82.0 Command: /home/biocbuild/R/R-beta-2024-04-15_r86425/bin/R CMD build --keep-empty-dirs --no-resave-data OLIN StartedAt: 2024-05-09 02:11:52 -0000 (Thu, 09 May 2024) EndedAt: 2024-05-09 02:12:36 -0000 (Thu, 09 May 2024) EllapsedTime: 44.1 seconds RetCode: 0 Status: OK PackageFile: OLIN_1.82.0.tar.gz PackageFileSize: 2.529 MiB