Package: OLIN Version: 1.82.0 Command: /Library/Frameworks/R.framework/Resources/bin/R CMD build --keep-empty-dirs --no-resave-data OLIN StartedAt: 2024-06-10 01:52:42 -0400 (Mon, 10 Jun 2024) EndedAt: 2024-06-10 01:53:26 -0400 (Mon, 10 Jun 2024) EllapsedTime: 43.9 seconds RetCode: 0 Status: OK PackageFile: OLIN_1.82.0.tar.gz PackageFileSize: 2.558 MiB