Package: OGRE Version: 1.8.0 Command: E:\biocbuild\bbs-3.19-bioc\R\bin\R.exe CMD INSTALL OGRE StartedAt: 2024-10-16 16:49:41 -0400 (Wed, 16 Oct 2024) EndedAt: 2024-10-16 16:50:42 -0400 (Wed, 16 Oct 2024) EllapsedTime: 60.9 seconds RetCode: 0 Status: OK