Package: OGRE Version: 1.8.0 Command: chmod a+r OGRE -R && E:\biocbuild\bbs-3.19-bioc\R\bin\R.exe CMD build --keep-empty-dirs --no-resave-data OGRE StartedAt: 2024-10-16 20:45:45 -0400 (Wed, 16 Oct 2024) EndedAt: 2024-10-16 20:47:48 -0400 (Wed, 16 Oct 2024) EllapsedTime: 123.4 seconds RetCode: 0 Status: OK PackageFile: OGRE_1.8.0.tar.gz PackageFileSize: 1.533 MiB