Package: OGRE Version: 1.8.0 Command: chmod a+r OGRE -R && F:\biocbuild\bbs-3.19-bioc\R\bin\R.exe CMD build --keep-empty-dirs --no-resave-data OGRE StartedAt: 2024-06-26 20:34:38 -0400 (Wed, 26 Jun 2024) EndedAt: 2024-06-26 20:36:29 -0400 (Wed, 26 Jun 2024) EllapsedTime: 111.0 seconds RetCode: 0 Status: OK PackageFile: OGRE_1.8.0.tar.gz PackageFileSize: 1.533 MiB