Package: OGRE Version: 1.8.0 Command: /home/biocbuild/R/R-beta-2024-04-15_r86425/bin/R CMD build --keep-empty-dirs --no-resave-data OGRE StartedAt: 2024-05-09 02:11:20 -0000 (Thu, 09 May 2024) EndedAt: 2024-05-09 02:13:57 -0000 (Thu, 09 May 2024) EllapsedTime: 157.3 seconds RetCode: 0 Status: OK PackageFile: OGRE_1.8.0.tar.gz PackageFileSize: 1.581 MiB