Package: OGRE Version: 1.8.0 Command: /Library/Frameworks/R.framework/Resources/bin/R CMD build --keep-empty-dirs --no-resave-data OGRE StartedAt: 2024-06-10 01:51:17 -0400 (Mon, 10 Jun 2024) EndedAt: 2024-06-10 01:53:50 -0400 (Mon, 10 Jun 2024) EllapsedTime: 152.9 seconds RetCode: 0 Status: OK PackageFile: OGRE_1.8.0.tar.gz PackageFileSize: 1.73 MiB