Package: OGRE Version: 1.8.0 Command: rm -rf OGRE.buildbin-libdir && mkdir OGRE.buildbin-libdir && /Users/biocbuild/BBS/utils/build-universal.sh OGRE_1.8.0.tar.gz /Library/Frameworks/R.framework/Resources/bin/R OGRE.buildbin-libdir StartedAt: 2024-10-18 19:47:49 -0400 (Fri, 18 Oct 2024) EndedAt: 2024-10-18 19:49:03 -0400 (Fri, 18 Oct 2024) EllapsedTime: 74.0 seconds RetCode: 0 Status: OK PackageFile: OGRE_1.8.0.tgz PackageFileSize: 1.253 MiB