Package: OCplus Version: 1.78.0 Command: E:\biocbuild\bbs-3.19-bioc\R\bin\R.exe CMD check --no-multiarch --install=check:OCplus.install-out.txt --library=E:\biocbuild\bbs-3.19-bioc\R\library --no-vignettes --timings OCplus_1.78.0.tar.gz StartedAt: 2024-10-17 04:03:01 -0400 (Thu, 17 Oct 2024) EndedAt: 2024-10-17 04:04:27 -0400 (Thu, 17 Oct 2024) EllapsedTime: 85.7 seconds RetCode: 0 Status: OK CheckDir: OCplus.Rcheck Warnings: 0