Package: OCplus Version: 1.78.0 Command: chmod a+r OCplus -R && E:\biocbuild\bbs-3.19-bioc\R\bin\R.exe CMD build --keep-empty-dirs --no-resave-data OCplus StartedAt: 2024-10-16 20:45:27 -0400 (Wed, 16 Oct 2024) EndedAt: 2024-10-16 20:46:03 -0400 (Wed, 16 Oct 2024) EllapsedTime: 36.1 seconds RetCode: 0 Status: OK PackageFile: OCplus_1.78.0.tar.gz PackageFileSize: 9.587 MiB