Package: OCplus Version: 1.78.0 Command: rm -rf OCplus.buildbin-libdir && mkdir OCplus.buildbin-libdir && F:\biocbuild\bbs-3.19-bioc\R\bin\R.exe CMD INSTALL --build --library=OCplus.buildbin-libdir OCplus_1.78.0.tar.gz StartedAt: 2024-06-27 08:36:45 -0400 (Thu, 27 Jun 2024) EndedAt: 2024-06-27 08:37:05 -0400 (Thu, 27 Jun 2024) EllapsedTime: 19.6 seconds RetCode: 0 Status: OK PackageFile: OCplus_1.78.0.zip PackageFileSize: 9.723 MiB