Package: OCplus Version: 1.78.0 Command: /home/biocbuild/bbs-3.19-bioc/R/bin/R CMD INSTALL OCplus StartedAt: 2024-10-16 16:32:24 -0400 (Wed, 16 Oct 2024) EndedAt: 2024-10-16 16:32:32 -0400 (Wed, 16 Oct 2024) EllapsedTime: 7.6 seconds RetCode: 0 Status: OK