Package: OCplus Version: 1.78.0 Command: /Library/Frameworks/R.framework/Resources/bin/R CMD INSTALL OCplus StartedAt: 2024-10-16 16:25:03 -0400 (Wed, 16 Oct 2024) EndedAt: 2024-10-16 16:25:22 -0400 (Wed, 16 Oct 2024) EllapsedTime: 18.2 seconds RetCode: 0 Status: OK