Package: OCplus Version: 1.78.0 Command: /home/biocbuild/R/R-beta-2024-04-15_r86425/bin/R CMD check --install=check:OCplus.install-out.txt --library=/home/biocbuild/R/R-beta-2024-04-15_r86425/site-library --no-vignettes --timings OCplus_1.78.0.tar.gz StartedAt: 2024-05-09 10:09:03 -0000 (Thu, 09 May 2024) EndedAt: 2024-05-09 10:10:34 -0000 (Thu, 09 May 2024) EllapsedTime: 91.2 seconds RetCode: 0 Status: OK CheckDir: OCplus.Rcheck Warnings: 0