Package: OCplus Version: 1.78.0 Command: /Library/Frameworks/R.framework/Resources/bin/R CMD check --install=check:OCplus.install-out.txt --library=/Library/Frameworks/R.framework/Resources/library --no-vignettes --timings OCplus_1.78.0.tar.gz StartedAt: 2024-10-18 06:14:47 -0400 (Fri, 18 Oct 2024) EndedAt: 2024-10-18 06:16:13 -0400 (Fri, 18 Oct 2024) EllapsedTime: 85.9 seconds RetCode: 0 Status: OK CheckDir: OCplus.Rcheck Warnings: 0