Package: OCplus Version: 1.78.0 Maintainer: Alexander Ploner MaintainerEmail: Alexander.Ploner at ki.se git_url: https://git.bioconductor.org/packages/OCplus git_branch: RELEASE_3_19 git_last_commit: 36e6840 git_last_commit_date: 2024-04-30 10:15:13 -0400 (Tue, 30 Apr 2024)