Package: NuPoP Version: 2.12.0 Command: E:\biocbuild\bbs-3.19-bioc\R\bin\R.exe CMD INSTALL NuPoP StartedAt: 2024-10-16 16:53:09 -0400 (Wed, 16 Oct 2024) EndedAt: 2024-10-16 16:53:29 -0400 (Wed, 16 Oct 2024) EllapsedTime: 19.9 seconds RetCode: 0 Status: OK