Package: NuPoP Version: 2.12.0 Command: chmod a+r NuPoP -R && F:\biocbuild\bbs-3.19-bioc\R\bin\R.exe CMD build --keep-empty-dirs --no-resave-data NuPoP StartedAt: 2024-06-26 20:33:50 -0400 (Wed, 26 Jun 2024) EndedAt: 2024-06-26 20:34:14 -0400 (Wed, 26 Jun 2024) EllapsedTime: 24.3 seconds RetCode: 0 Status: OK PackageFile: NuPoP_2.12.0.tar.gz PackageFileSize: 6.036 MiB