Package: NuPoP Version: 2.12.0 Command: rm -rf NuPoP.buildbin-libdir && mkdir NuPoP.buildbin-libdir && F:\biocbuild\bbs-3.19-bioc\R\bin\R.exe CMD INSTALL --build --library=NuPoP.buildbin-libdir NuPoP_2.12.0.tar.gz StartedAt: 2024-06-27 08:36:42 -0400 (Thu, 27 Jun 2024) EndedAt: 2024-06-27 08:37:24 -0400 (Thu, 27 Jun 2024) EllapsedTime: 42.8 seconds RetCode: 0 Status: OK PackageFile: NuPoP_2.12.0.zip PackageFileSize: 4.464 MiB