Package: NuPoP Version: 2.12.0 Command: /home/biocbuild/bbs-3.19-bioc/R/bin/R CMD INSTALL NuPoP StartedAt: 2024-10-16 16:26:23 -0400 (Wed, 16 Oct 2024) EndedAt: 2024-10-16 16:26:33 -0400 (Wed, 16 Oct 2024) EllapsedTime: 9.8 seconds RetCode: 0 Status: OK