Package: NuPoP Version: 2.12.0 Command: /Library/Frameworks/R.framework/Resources/bin/R CMD INSTALL NuPoP StartedAt: 2024-10-16 16:12:37 -0400 (Wed, 16 Oct 2024) EndedAt: 2024-10-16 16:13:06 -0400 (Wed, 16 Oct 2024) EllapsedTime: 28.7 seconds RetCode: 0 Status: OK