Package: NuPoP Version: 2.12.0 Command: /Library/Frameworks/R.framework/Resources/bin/R CMD check --install=check:NuPoP.install-out.txt --library=/Library/Frameworks/R.framework/Resources/library --no-vignettes --timings NuPoP_2.12.0.tar.gz StartedAt: 2024-10-17 10:11:30 -0400 (Thu, 17 Oct 2024) EndedAt: 2024-10-17 10:12:37 -0400 (Thu, 17 Oct 2024) EllapsedTime: 67.1 seconds RetCode: 0 Status: OK CheckDir: NuPoP.Rcheck Warnings: 0