Package: NuPoP Version: 2.12.0 Command: rm -rf NuPoP.buildbin-libdir && mkdir NuPoP.buildbin-libdir && /Users/biocbuild/BBS/utils/build-universal.sh NuPoP_2.12.0.tar.gz /Library/Frameworks/R.framework/Resources/bin/R NuPoP.buildbin-libdir StartedAt: 2024-10-17 16:45:13 -0400 (Thu, 17 Oct 2024) EndedAt: 2024-10-17 16:45:47 -0400 (Thu, 17 Oct 2024) EllapsedTime: 34.1 seconds RetCode: 0 Status: OK PackageFile: NuPoP_2.12.0.tgz PackageFileSize: 4.415 MiB