Package: NuPoP Version: 2.12.0 Command: /Library/Frameworks/R.framework/Resources/bin/R CMD INSTALL NuPoP StartedAt: 2024-06-09 15:29:49 -0400 (Sun, 09 Jun 2024) EndedAt: 2024-06-09 15:30:06 -0400 (Sun, 09 Jun 2024) EllapsedTime: 17.4 seconds RetCode: 0 Status: OK