Package: NuPoP Version: 2.12.0 Command: /home/biocbuild/R/R-beta-2024-04-15_r86425/bin/R CMD check --install=check:NuPoP.install-out.txt --library=/home/biocbuild/R/R-beta-2024-04-15_r86425/site-library --no-vignettes --timings NuPoP_2.12.0.tar.gz StartedAt: 2024-05-09 10:08:36 -0000 (Thu, 09 May 2024) EndedAt: 2024-05-09 10:09:10 -0000 (Thu, 09 May 2024) EllapsedTime: 34.1 seconds RetCode: 0 Status: OK CheckDir: NuPoP.Rcheck Warnings: 0