Package: NuPoP Version: 2.12.0 Command: /home/biocbuild/R/R-beta-2024-04-15_r86425/bin/R CMD build --keep-empty-dirs --no-resave-data NuPoP StartedAt: 2024-05-09 02:10:51 -0000 (Thu, 09 May 2024) EndedAt: 2024-05-09 02:11:16 -0000 (Thu, 09 May 2024) EllapsedTime: 25.1 seconds RetCode: 0 Status: OK PackageFile: NuPoP_2.12.0.tar.gz PackageFileSize: 6.09 MiB