Package: NuPoP Version: 2.12.0 Command: /Library/Frameworks/R.framework/Resources/bin/R CMD check --install=check:NuPoP.install-out.txt --library=/Library/Frameworks/R.framework/Resources/library --no-vignettes --timings NuPoP_2.12.0.tar.gz StartedAt: 2024-06-11 00:04:29 -0400 (Tue, 11 Jun 2024) EndedAt: 2024-06-11 00:05:29 -0400 (Tue, 11 Jun 2024) EllapsedTime: 59.7 seconds RetCode: 0 Status: OK CheckDir: NuPoP.Rcheck Warnings: 0