Package: NuPoP Version: 2.12.0 Command: /Library/Frameworks/R.framework/Resources/bin/R CMD build --keep-empty-dirs --no-resave-data NuPoP StartedAt: 2024-06-10 01:49:55 -0400 (Mon, 10 Jun 2024) EndedAt: 2024-06-10 01:50:25 -0400 (Mon, 10 Jun 2024) EllapsedTime: 30.2 seconds RetCode: 0 Status: OK PackageFile: NuPoP_2.12.0.tar.gz PackageFileSize: 6.133 MiB