Package: NuPoP Version: 2.12.0 Command: rm -rf NuPoP.buildbin-libdir && mkdir NuPoP.buildbin-libdir && /Users/biocbuild/BBS/utils/build-universal.sh NuPoP_2.12.0.tar.gz /Library/Frameworks/R.framework/Resources/bin/R NuPoP.buildbin-libdir StartedAt: 2024-06-11 12:21:57 -0400 (Tue, 11 Jun 2024) EndedAt: 2024-06-11 12:22:29 -0400 (Tue, 11 Jun 2024) EllapsedTime: 32.1 seconds RetCode: 0 Status: OK PackageFile: NuPoP_2.12.0.tgz PackageFileSize: 4.397 MiB