Package: NuPoP Version: 2.12.0 Command: rm -rf NuPoP.buildbin-libdir && mkdir NuPoP.buildbin-libdir && /Users/biocbuild/BBS/utils/build-universal.sh NuPoP_2.12.0.tar.gz /Library/Frameworks/R.framework/Resources/bin/R NuPoP.buildbin-libdir StartedAt: 2024-10-18 19:47:21 -0400 (Fri, 18 Oct 2024) EndedAt: 2024-10-18 19:47:46 -0400 (Fri, 18 Oct 2024) EllapsedTime: 24.8 seconds RetCode: 0 Status: OK PackageFile: NuPoP_2.12.0.tgz PackageFileSize: 4.397 MiB