Package: NuPoP Version: 2.12.0 Maintainer: Ji-Ping Wang MaintainerEmail: jzwang at northwestern.edu git_url: https://git.bioconductor.org/packages/NuPoP git_branch: RELEASE_3_19 git_last_commit: 6dbdccb git_last_commit_date: 2024-04-30 10:22:29 -0400 (Tue, 30 Apr 2024)