Package: NormqPCR Version: 1.50.0 Command: /Library/Frameworks/R.framework/Resources/bin/R CMD INSTALL NormqPCR StartedAt: 2024-10-16 16:05:16 -0400 (Wed, 16 Oct 2024) EndedAt: 2024-10-16 16:05:34 -0400 (Wed, 16 Oct 2024) EllapsedTime: 18.1 seconds RetCode: 0 Status: OK