Package: NormqPCR Version: 1.50.0 Command: rm -rf NormqPCR.buildbin-libdir && mkdir NormqPCR.buildbin-libdir && /Users/biocbuild/BBS/utils/build-universal.sh NormqPCR_1.50.0.tar.gz /Library/Frameworks/R.framework/Resources/bin/R NormqPCR.buildbin-libdir StartedAt: 2024-10-17 16:44:39 -0400 (Thu, 17 Oct 2024) EndedAt: 2024-10-17 16:44:58 -0400 (Thu, 17 Oct 2024) EllapsedTime: 19.0 seconds RetCode: 0 Status: OK PackageFile: NormqPCR_1.50.0.tgz PackageFileSize: 499.6 KiB