Package: NormqPCR Version: 1.50.0 Command: /Library/Frameworks/R.framework/Resources/bin/R CMD INSTALL NormqPCR StartedAt: 2024-06-09 15:22:15 -0400 (Sun, 09 Jun 2024) EndedAt: 2024-06-09 15:22:26 -0400 (Sun, 09 Jun 2024) EllapsedTime: 11.1 seconds RetCode: 0 Status: OK