Package: NormqPCR Version: 1.50.0 Command: /Library/Frameworks/R.framework/Resources/bin/R CMD check --install=check:NormqPCR.install-out.txt --library=/Library/Frameworks/R.framework/Resources/library --no-vignettes --timings NormqPCR_1.50.0.tar.gz StartedAt: 2024-06-10 23:58:17 -0400 (Mon, 10 Jun 2024) EndedAt: 2024-06-11 00:00:45 -0400 (Tue, 11 Jun 2024) EllapsedTime: 148.7 seconds RetCode: 0 Status: OK CheckDir: NormqPCR.Rcheck Warnings: 0