Package: NormalyzerDE Version: 1.22.0 Command: E:\biocbuild\bbs-3.19-bioc\R\bin\R.exe CMD INSTALL NormalyzerDE StartedAt: 2024-10-16 16:57:09 -0400 (Wed, 16 Oct 2024) EndedAt: 2024-10-16 16:58:56 -0400 (Wed, 16 Oct 2024) EllapsedTime: 107.1 seconds RetCode: 0 Status: OK