Package: NormalyzerDE Version: 1.22.0 Command: chmod a+r NormalyzerDE -R && E:\biocbuild\bbs-3.19-bioc\R\bin\R.exe CMD build --keep-empty-dirs --no-resave-data NormalyzerDE StartedAt: 2024-10-16 20:44:38 -0400 (Wed, 16 Oct 2024) EndedAt: 2024-10-16 20:46:23 -0400 (Wed, 16 Oct 2024) EllapsedTime: 104.9 seconds RetCode: 0 Status: OK PackageFile: NormalyzerDE_1.22.0.tar.gz PackageFileSize: 1.112 MiB