Package: NormalyzerDE Version: 1.22.0 Command: /Library/Frameworks/R.framework/Resources/bin/R CMD build --keep-empty-dirs --no-resave-data NormalyzerDE StartedAt: 2024-06-10 01:47:22 -0400 (Mon, 10 Jun 2024) EndedAt: 2024-06-10 01:49:04 -0400 (Mon, 10 Jun 2024) EllapsedTime: 102.3 seconds RetCode: 0 Status: OK PackageFile: NormalyzerDE_1.22.0.tar.gz PackageFileSize: 1.113 MiB