Package: NormalyzerDE Version: 1.22.0 Command: rm -rf NormalyzerDE.buildbin-libdir && mkdir NormalyzerDE.buildbin-libdir && /Users/biocbuild/BBS/utils/build-universal.sh NormalyzerDE_1.22.0.tar.gz /Library/Frameworks/R.framework/Resources/bin/R NormalyzerDE.buildbin-libdir StartedAt: 2024-06-11 12:21:09 -0400 (Tue, 11 Jun 2024) EndedAt: 2024-06-11 12:21:54 -0400 (Tue, 11 Jun 2024) EllapsedTime: 45.0 seconds RetCode: 0 Status: OK PackageFile: NormalyzerDE_1.22.0.tgz PackageFileSize: 1.355 MiB